BEGIN:VCALENDAR
VERSION:2.0
PRODID:-//DAV - Sektion Amberg - ECPv6.15.20//NONSGML v1.0//EN
CALSCALE:GREGORIAN
METHOD:PUBLISH
X-WR-CALNAME:DAV - Sektion Amberg
X-ORIGINAL-URL:https://dav-amberg.de
X-WR-CALDESC:Veranstaltungen für DAV - Sektion Amberg
REFRESH-INTERVAL;VALUE=DURATION:PT1H
X-Robots-Tag:noindex
X-PUBLISHED-TTL:PT1H
BEGIN:VTIMEZONE
TZID:Europe/Berlin
BEGIN:DAYLIGHT
TZOFFSETFROM:+0100
TZOFFSETTO:+0200
TZNAME:CEST
DTSTART:20250330T010000
END:DAYLIGHT
BEGIN:STANDARD
TZOFFSETFROM:+0200
TZOFFSETTO:+0100
TZNAME:CET
DTSTART:20251026T010000
END:STANDARD
BEGIN:DAYLIGHT
TZOFFSETFROM:+0100
TZOFFSETTO:+0200
TZNAME:CEST
DTSTART:20260329T010000
END:DAYLIGHT
BEGIN:STANDARD
TZOFFSETFROM:+0200
TZOFFSETTO:+0100
TZNAME:CET
DTSTART:20261025T010000
END:STANDARD
BEGIN:DAYLIGHT
TZOFFSETFROM:+0100
TZOFFSETTO:+0200
TZNAME:CEST
DTSTART:20270328T010000
END:DAYLIGHT
BEGIN:STANDARD
TZOFFSETFROM:+0200
TZOFFSETTO:+0100
TZNAME:CET
DTSTART:20271031T010000
END:STANDARD
END:VTIMEZONE
BEGIN:VEVENT
DTSTART;VALUE=DATE:20260604
DTEND;VALUE=DATE:20260608
DTSTAMP:20260420T024531
CREATED:20260127T164138Z
LAST-MODIFIED:20260128T074455Z
UID:8418-1780531200-1780876799@dav-amberg.de
SUMMARY:Fahrt zum Prielschutzhaus | 4.-7. Juni 2026
DESCRIPTION:Termin:\n4. – 7. Juni 2026 (Donnerstag – Sonntag)\n(Pfingstferien\, Brückentagswochenende über Fronleichnam) \nDer Große Priel ist der höchste Berg des Toten Gebirges\, der Priel-Klettersteig der längste Österreichs. Wer von Superlativen mehr haben möchte\, kehrt im Prielschutzhaus ein. \nDas Prielschutzhaus ist eine Alpenvereinshütte des ÖTK Linz und liegt auf 1420m Höhe im Toten Gebirge. Als eine der ersten österreichischen Alpenvereinshütten wurde es 1994 mit einer Biokläranlage ausgestattet. Das gesamte Ökosystem der Hütte wurde beispielhaft in die hochalpine Welt eingegliedert und auch das Versorgungssystem und die Küche wurden adaptiert. \nEine moderne Indoorkletterwand befindet sich direkt im Haus\, zwei Klettergärten die ständig erweitert werden sind in 30 min. (SO Sporn Klettergarten) bzw. 40min. (Goldkarklettergarten) erreichbar.\nFür Klettersteigfreunde stehen drei große Klettersteige zur Auswahl.\nAuch für weniger „extreme“ Zeitgenossen ist das Gebiet um das Prielschutzhaus ein ideales Betätigungsfeld. Mit etwas Trittsicherheit können alle umliegenden Gipfel auf Normalwegen bestiegen werden. \nDer Aufstieg zur Hütte erfolgt von Hinterstoder aus\, Gehzeit ca. 3 Std.\nVom Parkplatz wandern Sie ca. ½ Stunde auf einer Forststraße bis zum Polsterstüberl und weiter bis zur Abzweigung Materialseilbahn (Materialtransport möglich)\, wo der eigentliche Steig zum Prielschutzhaus beginnt. \nZielgruppe:\n– für alle Bergbegeisterten geeignet (von den Kindern bis hin zu den Senioren) \nAusrüstung:\n– Feste Kleidung und Schuhwerk für Wanderungen\n– Hüttenschlafsack\n– AV-Ausweis (falls vorhanden)\n– gute Laune \nKosten für die Teilnahme/Organisation:\n– Für Mitglieder der Sektion Amberg: ohne Entgelt!\n– Für Gäste: 20\,- € pro Teilnehmer\nDie Kosten für Übernachtung\, Verpflegung und Anreise trägt jeder Teilnehmer selbst! Die Preise für Übernachtung und Essen findet Ihr auf der Homepage des Prielschutzhauses. \nAnreise:\nDer Eigenanteil pro Fahrgast für die Busan- und -rückreise beträgt\n– 70\,- € (für Erwachsene) bzw.\n– 55\,- € (für alle bis 17)\nDie darüber hinausgehenden Kosten für den Bus werden vom DAV Amberg übernommen.\nDie Kosten für den Rucksacktransport ab Polsterstüberl (Materialseilbahn) betragen je Gepäckstück 6\,- €. \nAbfahrt ist am Donnerstag\, 4. Juni 2026 um 7:00 Uhr bei der Bushaltestellte gegenüber Feuerwehr (nähe ACC).\nRückfahrt ist am Sonntag\, 7. Juni 2026 um 15:00 Uhr (Abfahrt in Österreich)\nEine Selbstanreise durch die Teilnehmer ist aus wirtschaftlichen Gründen nicht zu empfehlen und im Einzelfall nur nach vorheriger Rücksprache möglich. Ziel ist eine gemeinsame\, umweltfreundliche Anreise möglichst aller Teilnehmer mit dem Reisebus. \nZahlung (auch für Mitglieder!):\nZur Fixierung der Anmeldung sind\n– die Kosten für die Busfahrt sowie\n– bei Gästen zusätzlich die 20\,- € Teilnahmegebühr\nzu leisten.\nIm Falle einer Selbstanreise sind anstelle der Fahrkosten eine Anzahlung für die Übernachtungskosten in Höhe von 30\,- € pro Teilnehmer zu leisten.\nDie Kontoverbindung für die Überweisung werden rechtzeitig mitgeteilt.\nErst mit Überweisung ist die Anmeldung fixiert und der Platz endgültig reserviert.\nIm Falle einer Abmeldung bis 14 Tagen vor der Fahrt wird die Zahlung voll erstattet.\nBei einer Abmeldung innerhalb von 14 Tagen bzw. einer Nicht-Teilnahme ohne Abmeldung werden die Kosten nicht erstattet. \nBegrenzte Teilnehmerzahl! \nAuskunft und Anmeldung (bitte per Email):\nPetra Canu\, EMail: siehe hier
URL:https://dav-amberg.de/veranstaltung/fahrt-zum-prielschutzhaus-4-7-juni-2026/
LOCATION:Prielschutzhaus
CATEGORIES:Bergsport Sommer
ATTACH;FMTTYPE=image/jpeg:https://dav-amberg.de/wp-content/uploads/2026/01/Prielschutzhaus.jpg
END:VEVENT
BEGIN:VEVENT
DTSTART;VALUE=DATE:20260613
DTEND;VALUE=DATE:20260615
DTSTAMP:20260420T024531
CREATED:20260129T145329Z
LAST-MODIFIED:20260129T145443Z
UID:8446-1781308800-1781481599@dav-amberg.de
SUMMARY:Osser Süd-Grat | 13. oder 14. Juni 2026
DESCRIPTION:Samstag\, 13. oder Sonntag\, 14. Juni 2026 \nIm Italienischen gibt es das Wort ‚Direttissima‘ für den direktesten Aufstieg auf einen Berg. Auch auf den Kleinen Osser im Bayer. Wald gibt es so einen Weg. Er ist alpin steil und es gibt nur Pfadspuren und keine Markierung. \nStarten werden wir im Himmelreich\, einem Ortsteil von Lam. Über den Künischen Grenzweg wandern wir zum ‚Einstieg‘ des Südgrates. In leichter Kletterei im I. Grad steigen wir auf den Kleinen Osser\, von dem man eine traumhafte Aussicht auf den König des Bayerischen Waldes\, den Großen Arber\, und in den Lamer Winkel hat. Weiter geht’s zum Großen Osser\, wo wir uns im Osser-Schutzhaus stärken können. Von dort folgen wir ein Stück dem Grenzkamm\, um dann über den Horizontalsteig und über den Sattelsteig\, wo wieder Trittsicherheit und manchmal auch die Hände gefordert sind\, Maria Hilf und schließlich unseren Ausgangspunkt zu erreichen. \nTourencharakter/Voraussetzungen:\n– Mitgliedschaft in der Sektion Amberg des DAV\n– allgemeine Trittsicherheit\, Schwindelfreiheit\n– Erfahrung in leichtem Klettergelände (Schwierigkeitsgrad I)\n– gute Kondition für bis zu 8 Stunden Gehzeit \nbegrenzte Teilnehmerzahl:\n– max. 7 Personen \nAuskunft und Anmeldung (bitte per Email):\nGerhard Siegert
URL:https://dav-amberg.de/veranstaltung/osser-sued-grat-13-oder-14-juni-2026/
LOCATION:Osser\, Bayrischer Wald
CATEGORIES:Bergsport Sommer
ATTACH;FMTTYPE=image/jpeg:https://dav-amberg.de/wp-content/uploads/2026/01/osser-querformat-scaled.jpg
END:VEVENT
BEGIN:VEVENT
DTSTART;TZID=Europe/Berlin:20260621T100000
DTEND;TZID=Europe/Berlin:20260621T180000
DTSTAMP:20260420T024531
CREATED:20260129T150535Z
LAST-MODIFIED:20260129T151048Z
UID:8441-1782036000-1782064800@dav-amberg.de
SUMMARY:Burgfest 2026
DESCRIPTION:Am Sonntag\, 21. Juni 2026 ist es endlich wieder so weit:\nUnser Burgfest findet statt! \nWeitere Helfer für das Burgfest sind natürlich jederzeit willkommen!\nMacht einfach mit und bringt Euch ein in Eurem Verein! Wenn Ihr mithelfen könnt meldet Euch einfach bei Thomas (per EMail oder Tel: 09627 220)
URL:https://dav-amberg.de/veranstaltung/burgfest-2026/
LOCATION:Schweppermannsburg\, Schweppermannsburg\, Kastl/Pfaffenhofen\, Bayern\, 92280\, Deutschland
CATEGORIES:Vereinsfeste und -feiern
ATTACH;FMTTYPE=image/jpeg:https://dav-amberg.de/wp-content/uploads/2026/01/2022-05-22-11.29.27-scaled.jpg
END:VEVENT
BEGIN:VEVENT
DTSTART;TZID=Europe/Berlin:20260709T150000
DTEND;TZID=Europe/Berlin:20260712T220000
DTSTAMP:20260420T024531
CREATED:20260129T135516Z
LAST-MODIFIED:20260314T175129Z
UID:8364-1783609200-1783893600@dav-amberg.de
SUMMARY:Klettersteigtour in den Berchtesgadener Alpen / Salzkammergut-Berge
DESCRIPTION:Donnerstag\, 9. – Sonntag\, 12. Juli\nAbfahrt am Donnerstag gegen 15.00 Uhr \nDrachenwand Klettersteig\nGrünstein Klettersteig – Isidor-Variante\nAttersee Klettersteig Mahdlgupf \nKursziel:\nSicheres und selbständiges Begehen von Klettersteigen im überwiegend mittleren Schwierigkeitsbereich. \nKursinhalt:\nKlettertechnik\, Handhabung der persönlichen Schutzausrüstung (PSA)\, Einsatz und Verwendung der „Rastschlinge“\, Knotenkunde\, Hilfestellung bei Blockade\, viel Praxis. Kursinhalte können an die Kenntnisse/Erfahrungen der Teilnehmer angepasst werden. \nAnreise:\nVereinsbus oder Fahrgemeinschaft(en) \nUnterkunft:\nFrühstückspension (ÜF ca. 60\,– Euro) \nKosten:\nNutzungsgebühr für den Vereinsbus \nVoraussetzungen:\n– Mitgliedschaft in der Sektion Amberg\n– Teilnahme an Vorbesprechungen\n– Anforderungen (Schwindelfreiheit\, sehr gute Trittsicherheit\, Kondition für mindestens 800 Hm sowie mehrstündige Tagestouren) \nAusrüstung:\nKletterhelm*\, Klettersteighandschuhe\, Klettergurt*\, Klettersteigset*\, Bandschlinge(60-80 cm)* und HMS-Schraubkarabiner* zur Selbstsicherung und klettersteigtaugliche Schuhe\nBitte beachten: Eigene Ausrüstung muss der aktuellen Norm entsprechen/Rückrufe des Herstellers prüfen\n*können gg. Gebühr in der Geschäftsstelle ausgeliehen werden \nTeilnehmerzahl:\nMax. 6 Teilnehmer/innen \nVorbesprechung:\nGeschäftsstelle DAV Sektion Amberg\, Datum und Uhrzeit werden noch bekannt gegeben \nAnmeldeschluss:\n31.05.2026  \nDie Veranstaltung ist Ausgebucht. Bitte von weiteren Anmeldungen absehen.\nAnmeldung und Auskunft:\nChristian Stiegler
URL:https://dav-amberg.de/veranstaltung/klettersteigtour-in-den-berchtesgadener-alpen-salzkammergut-berge-3/
CATEGORIES:Bergsport Sommer
ATTACH;FMTTYPE=image/jpeg:https://dav-amberg.de/wp-content/uploads/2025/08/Hoehengluecksteig2025.jpg
END:VEVENT
BEGIN:VEVENT
DTSTART;VALUE=DATE:20260718
DTEND;VALUE=DATE:20260722
DTSTAMP:20260420T024531
CREATED:20260406T170338Z
LAST-MODIFIED:20260406T170338Z
UID:8572-1784332800-1784678399@dav-amberg.de
SUMMARY:Hochtouren\, Ötztal\, Vernagthütte / Brandenburger Haus (vier Tage)
DESCRIPTION:Liebe Hochtoureninteressierte\, auch dieses Jahr ist wieder eine Veranstaltung in den Zentralalpen geplant. Mit der renovierten Vernagthütte und dem bereits über der Dreitausender-Marke gelegenen Brandenburger Haus haben wir zwei tolle und hohe Stützpunke im Herzen der Ötztaler Alpen als Ausgangspunkt. \nWir beabsichtigen\, uns im Rahmen von Trainingspassagen und geeigneten Bergtouren das grundlegende Handwerkszeug für Hochtouren zu erarbeiten bzw. aufzufrischen. Der gewählte Bereich des Ötztals bietet attraktive Ziele sowie interessante und abwechslungsreiche hochalpine Passagen\, die es uns erlauben sollten\, unser bergsteigerisches Rüstzeug wie Umgang mit Pickel und Steigeisen\, sowie auch einige seiltechnische Grundlagen zu üben. Auch für die höheren Berge unabdingbare Themen wie Einheiten zur Spaltenbergung sowie der Aufbau von Sicherungspunkten in Schnee und Eis stehen auf dem Programm. \nWelche Touren tatsächlich in Angriff genommen werden können\, wird stark von den Verhältnissen vor Ort und dem technischen Können sowie der Ausdauer der Teilnehmer*Innen abhängen. Im Vordergrund werden jedoch nicht Gipfelziele stehen\, sondern das Training alpiner Fertigkeiten. \nVoraussetzungen:\nMitgliedschaft im Alpenverein Sektion Amberg\, sicheres seilfreies Gehen im Fels I. Grad UIAA (auch im ausgesetzten Gelände)\, allgemeine Trittsicherheit\, Schwindelfreiheit\, völlige körperliche Gesundheit sowie Ausdauer für bis zu 8 bis 10 Stunden Gehzeit je Tag\, erste alpine Erfahrungen bei Bergtouren. Grundkenntnisse in Knotenkunde und Sicherungstechnik sind erforderlich. \nAusrüstung:\nDie notwendige Ausrüstung werden wir in einer Vorbesprechung klären. \nTeilnehmerzahl und Fachübungsleiter:\nDie Veranstaltung wird von Dr. Frank Günther und Franz Lindner\, jeweils Fachübungsleiter für Hochtouren\, durchgeführt. Aufgrund der anspruchsvollen Thematik sind maximal vier Teilnehmer möglich. \nVorbesprechung (bitte Teilnahme ermöglichen!):\nDienstag\, 23. Juni 2026\, 20:00 Uhr\, im Gasthof "Zur alten Kaserne" (im Haus unserer Geschäftsstelle). \nKursort:\nVernagthütte (2.755 m)\, sowie Brandenburger Haus (3.277 m)\, Ötztal; je nach Wetterlage bleibt eine kurzfristige Änderung des Kursortes vorbehalten. \nTermin:\nSamstag 18. Juli 2026 (Hinfahrt) bis Dienstag 21. Juli 2026 (Rückfahrt)\, insgesamt 4 Tage (3 Nächte). \nAnmeldung (bitte per E-Mail) spätestens bis zum 1. Juni 2026:\nbei einem der Veranstalter Dr. Frank Günther & Franz Lindner
URL:https://dav-amberg.de/veranstaltung/hochtouren-oetztal-vernagthuette-brandenburger-haus-vier-tage/
CATEGORIES:Bergsport Sommer
END:VEVENT
BEGIN:VEVENT
DTSTART;VALUE=DATE:20260802
DTEND;VALUE=DATE:20260805
DTSTAMP:20260420T024531
CREATED:20260127T162032Z
LAST-MODIFIED:20260128T073459Z
UID:8313-1785628800-1785887999@dav-amberg.de
SUMMARY:Fahrt auf die Sudetendeutsche Hütte | 2.-4. August 2026
DESCRIPTION:Termin:\nSonntag\, 2. – Dienstag\, 4. August 2026\n– hochalpine Sektionsfahrt –\n(Gemeinsame Fahrt mit dem DAV Sulzbach-Rosenberg) \nAm Sonntag in aller Früh geht es gemeinsam mit den Sulzbachern per Bus auf nach Osttirol. Unser Reiseziel ist Matrei. Von dort geht es zu Fuß weiter hoch hinauf auf die Sudetendeutsche Hütte (2.656m).\nZum Aufstieg gibt es vor allem diese beiden Varianten:\n– 1.550 hm direkt zu Fuß vom Tal aus (ca. 5 Stunden Fußmarsch) oder\n– zunächst mit der Gondel hinauf und dann die letzten 800 hm hoch zur Hütte (ca. 4 Stunden)\nEin Gepäcktransport ist nicht möglich! \nSchon der Aufstieg zeigt: Diese Hütte ist nichts für Hütten- und Bergneulinge\, sondern für alle Mitglieder\, die bereits Bergerfahrung mitbringen. Auch die exponierte Lage der Hütte auf über 2.600m ist nicht zu unterschätzen. Angekommen auf der Hütte werden wir durch das Hüttenteam bestens kulinarisch versorgt. Infos zur Halbpension findet auf der Seite der Hütte.\nMit „nur“ 47 Schlafplätzen ist es eine eher kleine Hütte\, die an diesen beiden Tagen fast ausschließlich durch Sulzbach-Rosenberger und Ambergern belegt ist. Wir sind also quasi unter uns.  \nAm Montag gilt es dann\, mindestens einen der umliegenden 3Tausender zu erklimmen. Aber Achtung: Die Touren sind zwar alle ohne Gletscher und ohne Klettersteig/Kletterausrüstung erreichbar\, dennoch handelt es sich hier um hochalpine Touren\, die zwingend Trittsicherheit und Schwindelfreiheit erfordern.\nDas lukrativste Ziel stellt sicherlich hier der Große Muntanitz (3.232m) dar. Traumhaft gelegen zwischen Großglockner und Großvenediger erwartet und\, wenn das Wetter einigermaßen mitspielt\, ein grandioses Alpenpanorama. \nAm Dienstag heißt es dann wieder Abschied nehmen. Sicherlich geht es sich noch aus\, vor dem Abstieg noch einer der „kleineren“ Dreitausender in Hüttennähe zu besteigen\, bevor es dann wieder hinab ins Tal und anschließend zurück in die Heimat geht. \nZielgruppe\, Tourencharakter und Voraussetzungen:\n– für alle Mitglieder mit Bergerfahrung (Erfahrung im Begehen von alpinen Gelände)\n– Trittsicherheit und Schwindelfreiheit\n– Kondition für 800 hm Aufstieg notwendig (Mit Gepäck am Rücken)\n– Mitgliedschaft in der Sektion Amberg (Anmeldung bei uns) oder in der Sektion Sulzbach-Rosenberg (Anmeldung direkt bei der Sektion SUL)\nEine Teilnahme als „Gast“ bei dieser Fahrt ist nur nach vorheriger Rücksprache möglich\, und soweit die Mitgliedschaft in einer anderen Alpenvereins-Sektion besteht \nAusrüstung:\n– Feste Kleidung und Schuhwerk für Wanderungen\n– Hüttenschlafsack\n– AV-Ausweis (falls vorhanden)\n– gute Laune \nKosten für die Teilnahme/Organisation:\n– Für Mitglieder der Sektion Amberg und Sulzbach-Rosenberg: ohne Entgelt!\n– Für Gäste: 20\,- € pro Teilnehmer\nDie Kosten für Übernachtung\, Verpflegung und Anreise trägt jeder Teilnehmer selbst! Die Preise für Übernachtung und Frühstück/Halbpension findet Ihr auf der Homepage der Sudetendeutschen Hütte. \nAnreise:\nDer Eigenanteil pro Fahrgast für die Busan- und -rückreise beträgt\n– 75\,- € (für Erwachsene) bzw.\n– 60\,- € (für alle bis 17).\nDie darüber hinausgehenden Kosten für den Bus werden vom DAV Amberg übernommen.\nAbfahrt ist am Sonntag\, 2. August 2026 um 7:00 Uhr in Amberg bei der Bushaltestellte Schießstätteweg gegenüber der Feuerwehr (oder Alternativ um 6:30 Uhr in Sulzbach-Rosenberg)\nRückfahrt ist am Dienstag\, 4. August 2026 um 15:00 Uhr (Abfahrt in Matrai)\nEine Selbstanreise durch die Teilnehmer ist nicht möglich. Ziel ist eine gemeinsame\, umweltfreundliche Anreise aller Teilnehmer mit dem Reisebus. \nZahlung:\nZur Fixierung der Anmeldung sind\n– die Kosten für die Busfahrt sowie\n– bei Gästen zusätzlich die 20\,- € Teilnahmegebühr\nzu leisten.\nDie Kontoverbindung für die Überweisung wird nach der Anmeldung rechtzeitig mitgeteilt.\nErst mit Überweisung ist die Anmeldung fixiert und der Platz endgültig reserviert. \nStornierung:\nIm Falle einer Abmeldung bis 14 Tagen vor der Fahrt wird die Anzahlung voll erstattet.\nBei einer Abmeldung bis zu 14 Tage vor der Fahrt wird die Anzahlung nicht erstattet.\nBei einer Abmeldung bis zu 5 Tage vor der Fahrt bzw. einer Nicht-Teilnahme ohne Abmeldung wird zusätzlich zur Anzahlung eine Entschädigungszahlung für die Übernachung/Hütte von 40\,- € pro Person fällig. \nBegrenzte Teilnehmerzahl!\n– jeweils 20 Plätze für jede Sektion \nAuskunft und Anmeldung (bitte per Email):\nThomas Graf\, EMail: siehe hier
URL:https://dav-amberg.de/veranstaltung/fahrt-auf-die-sudetendeutsche-huette-2-4-august-2026/
LOCATION:Privat: Sudetendeutsche Hütte\, Matrei in Osttirol\, Tirol (Osttirol)\, Austria
CATEGORIES:Bergsport Sommer
ATTACH;FMTTYPE=image/jpeg:https://dav-amberg.de/wp-content/uploads/2026/01/Sudetendeutsche_Huette.jpg
END:VEVENT
BEGIN:VEVENT
DTSTART;VALUE=DATE:20260819
DTEND;VALUE=DATE:20260829
DTSTAMP:20260420T024531
CREATED:20251125T105237Z
LAST-MODIFIED:20260329T170128Z
UID:8263-1787097600-1787961599@dav-amberg.de
SUMMARY:GTA-Alpendurchquerung - die nördlichsten 8 Etappen auf der Grande Traversata delle Alpi (Etappen V1-V8)
DESCRIPTION:Mittwoch\, 19. – Freitag\, 28. August 2026\nAktuell sind wieder 2 Plätze frei! \nWir starten Mitte August in unsere zehntägige Hüttentour. (8 Tourentage + An- und Abreise). Start ist ab dem Nufenen-/Griespass in der Schweiz. In dem Dreiländereck stoßen die 2 Schweizer Kantone Wallis und Tessin sowie die italienische Region Piemont aufeinander. Von dort wandern wir über die Lepontinischen Alpen durch den Naturpark Alpe Veglia und Alpe Devero bis ins Valle Antrona bei Domodossola. Herrliche\, einsame Bergwanderwege führen über idyllische Alpen und Pässe von bis zu 2.600 m Höhe entlang der italienisch-schweizerischen Grenze vorbei am Monte Leone. \nDie Region ist stark geprägt von der industriellen Abwanderung der einheimischen Bevölkerung in der zweiten Hälfte des 20. Jahrhunderts. Overtourismus\, wie man ihn leider mittlerweile vom E5 oder anderen bekannten Weitwanderwegen kennt\, ist hier nicht zu erwarten. Der Einstieg\, also unsere geplanten 7 Etappen\, sind noch nicht so einsam\, wie die restlichen Etappen des GTA\, aber trotzdem werden wir in der Regel eher alleine unterwegs sein. Auch gibt es beim GTA nur kleinere Hütten oder private Unterkünfte\, auf die wir zurückgreifen werden – und das Ganze noch gewürzt mit entsprechend italienischem Flair. \nAufgrund der Entfernung müssen wir sowohl einen An- als auch einen Abreisetag einplanen.\nDie Anreise erfolgt vorraussichtlich mit dem Zug. \nTourencharakter/Voraussetzungen:\n– Kondition für täglich bis zu 1.300hm\, 18km und 6 Stunden Gehzeit (nicht jeder Tag\, aber kommt vor)\n– Erfahrung im Begehen mehrtägiger Hüttentouren\n– Trittsicherheit und Schwindelfreiheit\n– Mitgliedschaft in der Sektion Amberg im DAV\n– Teilnahme an der Vorbesprechung (Abstimmung von Tourenverlauf\, Übernachtung und Co. in der Gruppe) \nAusrüstung:\n– normale Wanderausrüstung \nbegrenzte Teilnehmerzahl:\n– max. 12 Personen \nKosten:\n– Die Organisation der Fahrt selbst ist kostenfrei\n– Die Kosten für die An- und Abreise betragen nach aktuellem Planungsstand ca. 150 € pro Person\n– Die Kosten für Übernachtung\, Verpflegung und Anreise trägt jeder Teilnehmer selbst: Hier ist mit 60 – 100 € pro Person / pro Nacht für die Halbpension zu rechnen.\n– Getränke und Mittagsverplegung nach persönlichem Bedarf.\n– In Summe ist somit mit rund 1.000 € für Verpflegung\, Anfahrt und Übernachtung pro Person zu rechnen. \nAuskunft und Anmeldung (bitte per Email):\nThomas Graf\, EMail: siehe hier \nHinweis:\nAktuell sind wieder 2 Plätze frei!
URL:https://dav-amberg.de/veranstaltung/gta-alpendurchquerung-die-noerdlichsten-8-etappen-auf-der-grande-traversata-delle-alpi-etappen-v1-v8/
LOCATION:Piemont
CATEGORIES:Bergsport Sommer
ATTACH;FMTTYPE=image/png:https://dav-amberg.de/wp-content/uploads/2025/11/Cappana_Corno_Gries.png
END:VEVENT
BEGIN:VEVENT
DTSTART;VALUE=DATE:20260903
DTEND;VALUE=DATE:20260907
DTSTAMP:20260420T024531
CREATED:20260127T161935Z
LAST-MODIFIED:20260128T074417Z
UID:8414-1788393600-1788739199@dav-amberg.de
SUMMARY:Fahrt auf die Amberger Hütte | 3.-6. September 2026
DESCRIPTION:Termin:\n3. – 6. September 2026 (Donnerstag – Sonntag) \nAm Donnerstag brechen wir frühmorgens gemeinsam mit dem Bus ins Ötztal auf. Unser Ziel ist Gries in der Gemeinde Längenfeld. Von dort starten wir unsere Wanderung zur Amberger Hütte\, die für die kommenden zwei Nächte unser Zuhause sein wird. Je nach Kondition und persönlichem Anspruch bietet sich am Donnerstag entweder eine gemütliche Einkehr auf der Sulztalalm während des Aufstiegs an\, oder es bleibt noch genügend Zeit\, um bereits am Anreisetag den Sulzkogel zu besteigen bzw. einige Routen im Klettergarten bei der Amberger Hütte zu klettern. Am Abend werden wir vom Hüttenwirts-Paar kulinarisch verwöhnt. Auf Wunsch erwartet uns sogar ein feines 3-Gänge-Menü mit bester Tiroler Küche. Selbstverständlich kommen auch Liebhaber klassischer Hüttengerichte wie Hirtenmakkaroni\, Wiener Schnitzel oder Knödel-Trio voll auf ihre Kosten. \nAm Freitag und Samstag schließt sich jede bzw. jeder der Gruppe an\, die am besten zu den eigenen Wünschen und Fähigkeiten passt – die Möglichkeiten sind vielfältig. Zahlreiche Gipfel warten darauf\, entdeckt zu werden. Auch ohne Gletscherkontakt eröffnen sich mit etwas Bergerfahrung beeindruckende und hochalpine Ziele mit fantastischer Weitsicht über die Stubaier Alpen – quasi direkt vor der Haustür. Darüber hinaus stehen selbstverständlich auch verschiedene Hochtouren und Kletterrouten zur Auswahl. Wer es lieber gemütlicher angehen möchte\, findet ebenfalls attraktive Touren. Der kleine See direkt neben der Hütte bietet außerdem jede Menge Spaß und Abkühlung für die Kinder. Für alle kleinen und großen Wasserratten gilt daher: Badesachen nicht vergessen! Wie bereits am Donnerstag lassen wir auch am Freitag- und Samstagabend den Tag in geselliger Runde ausklingen. Während sich die Erwachsenen ein Glas Wein oder Bier gönnen\, entdecken die Kinder gemeinsam die Spielesammlungen oder den Boulderraum der Hütte. \nAuch am Sonntag ist noch eine (kleinere) Tour möglich\, bevor wir uns dann an den Abstieg nach Gries wagen. Oder man genießt nach einem Spaziergang zum Lausebichl (mit dem von unserer Jugend neu aufgestelltem Gipfelkreuz) nochmals die Terasse und die Gastfreundschaft der Hüttenwirtsfamilie. Gegen Nachmittag heißt es dann langsam aber sicher Abschied von den Bergen nehmen\, schließlich steht noch die Heimreise nach Amberg an.\n \nZielgruppe und Voraussetzungen:\n– für alle Bergbegeisterten geeignet (von den Kindern bis hin zu den Senioren)\n– Kondition für 500hm Aufstieg notwendig (Gepäcktransport ist möglich) \nAusrüstung:\n– Feste Kleidung und Schuhwerk für Wanderungen\n– Hüttenschlafsack\n– AV-Ausweis (falls vorhanden)\n– gute Laune \nKosten für die Teilnahme/Organisation:\n– Für Mitglieder der Sektion Amberg: ohne Entgelt!\n– Für Gäste: 20\,- € pro Teilnehmer\nDie Kosten für Übernachtung\, Verpflegung und Anreise trägt jeder Teilnehmer selbst! Die Preise für Übernachtung und Frühstück/Halbpension findet Ihr auf der Homepage der Amberger Hütte. \nAnreise:\nDer Eigenanteil pro Fahrgast für die Busan- und -rückreise beträgt\n– 75\,- € (für Erwachsene) bzw.\n– 60\,- € (für alle bis 17).\nDie darüber hinausgehenden Kosten für den Bus werden vom DAV Amberg übernommen.\nAbfahrt ist am Donnerstag\, 3. September 2026 um 7:00 Uhr bei der Bushaltestellte gegenüber Feuerwehr (nähe ACC).\nRückfahrt ist am Sonntag\, 6. September 2026 um 15:00 Uhr (Abfahrt in Gries)\nEine Selbstanreise durch die Teilnehmer ist aus wirtschaftlichen Gründen nicht zu empfehlen und im Einzelfall nur nach vorheriger Rücksprache möglich. Ziel ist eine gemeinsame\, umweltfreundliche Anreise möglichst aller Teilnehmer mit dem Reisebus. \nZahlung (auch für Mitglieder!):\nZur Fixierung der Anmeldung sind\n– die Kosten für die Busfahrt sowie\n– bei Gästen zusätzlich die 20\,- € Teilnahmegebühr\nzu leisten.\nIm Falle einer Selbstanreise sind anstelle der Fahrkosten eine Anzahlung für die Übernachtungskosten in Höhe von 30\,- € pro Teilnehmer zu leisten.\nDie Kontoverbindung für die Überweisung werden rechtzeitig mitgeteilt.\nErst mit Überweisung ist die Anmeldung fixiert und der Platz endgültig reserviert.\nIm Falle einer Abmeldung bis 14 Tagen vor der Fahrt wird die Zahlung voll erstattet.\nBei einer Abmeldung innerhalb von 14 Tagen bzw. einer Nicht-Teilnahme ohne Abmeldung werden die Kosten nicht erstattet. \nBegrenzte Teilnehmerzahl! \nAuskunft und Anmeldung (bitte per Email):\nMarkus Pirke\, EMail: siehe hier
URL:https://dav-amberg.de/veranstaltung/verlaengertes-bergwochenende-auf-der-amberger-huette-3-6-september-2026/
LOCATION:Amberger Hütte\, Österreich
CATEGORIES:Bergsport Sommer
ATTACH;FMTTYPE=image/jpeg:https://dav-amberg.de/wp-content/uploads/2024/01/2019-09-06-08-Amberger-Huette.jpg
END:VEVENT
BEGIN:VEVENT
DTSTART;VALUE=DATE:20260925
DTEND;VALUE=DATE:20260928
DTSTAMP:20260420T024531
CREATED:20260129T150427Z
LAST-MODIFIED:20260129T150729Z
UID:8456-1790294400-1790553599@dav-amberg.de
SUMMARY:Herbstwanderung | Lenggrieser Hütte
DESCRIPTION:Freitag\, 25. – Sonntag\, 27. September 2026 \nStützpunkt für unsere Herbsttour in den Bayerischen Vorbergen wird für zwei Nächte die Lenggrieser Hütte. Von ihr hat man einen schönen Ausblick in das Isartal und zur Benediktenwand gegenüber.\nDer Zustieg erfolgt über den eher unbekannten Steig über Grasleitenstein und Grasleitenkopf. Am zweiten Tag statten wir der Tegernseer Hütte\, dem Adlernest zwischen Roß- und Buchstein\, einen Besuch ab. Der Abstieg am Sonntag geht über Seekarkreuz\, Auerkamp und Fockenstein zurück nach Lenggries.\n \nStützpunkt:\nLenggrieser Hütte (1338 m) \nTourencharakter/Voraussetzungen:\n– Mitgliedschaft in der Sektion Amberg des DAV\n– allgemeine Trittsicherheit\, Schwindelfreiheit\n– gute Kondition für bis zu 8 Stunden Gehzeit am Tag \nbegrenzte Teilnehmerzahl:\n– max. 8 Personen \nAuskunft und Anmeldung (bitte per Email):\nGerhard Siegert
URL:https://dav-amberg.de/veranstaltung/herbstwanderung-lenggrieser-huette/
LOCATION:Lenggrieser Hütte
CATEGORIES:Bergsport Sommer
ATTACH;FMTTYPE=image/jpeg:https://dav-amberg.de/wp-content/uploads/2026/01/Lenggrieser-scaled.jpg
END:VEVENT
END:VCALENDAR